Workbook

Sheet CONTRATOS TRLCSP
A1: LISTADO DE CONTRATOS SUJETOS AL TRLCSP O A LA LEY 9/2017 FORMALIZADOS POR CARTAGENA ALTA VELOCIDAD EN EL EJERCICIO 2026 | R1: 46295 | S1: Revisión
A3: Nº | B3: Trim. | C3: Ref. Contrato | D3: Fecha Adjudicacion | E3: Fecha Formalizacion | F3: Objeto | G3: Valor Estimado (sin IVA) | H3: Impuestos | I3: Presupuesto Licitacion (con IVA) | J3: Importe Adjudicacion (sin IVA) | K3: Plazo Ejecucion Meses | L3: Licitadores | M3: Tipo Contrato | N3: Forma Tramitacion | O3: Legislacion Aplicable | P3: Proc. Adjudicacion | Q3: Pyme | R3: NIF/CIF | S3: Adjudicatario | T3: SARA
A4: 1 | B4: 1T | C4: 202601 | D4: 46003 | E4: 46027 | F4: Auditoría de cuentas anuales 2025, 2026 y 2027 | G4: 33709.35 | H4: 7078.9635 | I4: 40788.313 | J4: 21911.08 | K4: 36 | L4: 4 | M4: Servicios | N4: Ordinaria | O4: Ley 9/2017 | P4: Abierto | Q4: SI | R4: B30339410 | S4: Auditeco, S.L. | T4: NO
A5: 2 | B5: 2T | C5: 202602 | D5: 46160 | E5: 46160 | F5: Implantación, alojamiento y gestión técnica del Sistema Interno de Información (Canal Ético) | G5: 750 | H5: 157.5 | I5: 907.5 | J5: 500 | K5: 12 | L5: 3 | M5: Servicios | N5: Ordinaria | O5: Ley 9/2017 | P5: Contrato Menor | Q5: SI | R5: B86260247 | S5: Grupo Adaptalia Legal Formativo, S.L. | T5: NO
A6: 3 | B6: 3T | C6: 202603 | D6: 46215 | E6: 46216 | F6: Adaptación del portal de transparencia e implantación de requisitos de accesibilidad de la web corporativa | G6: 2250 | H6: 472.5 | I6: 2722.5 | J6: 2250 | K6: 12 | L6: 3 | M6: Servicios | N6: Ordinaria | O6: Ley 9/2017 | P6: Contrato Menor | Q6: SI | R6: B73821019 | S6: Digitaldot Servicios Informáticos, S.L | T6: NO
A7: 4 | B7: 3T | C7: 202604 | D7: 46272 | E7: 46274 | F7: Seguro responsabilidad civil | G7: 1500 | H7: Exento | I7: 1500 | J7: 927 | K7: 12 | L7: 4 | M7: Servicios | N7: Ordinaria | O7: Ley 9/2017 | P7: Contrato Menor | Q7: NO | R7: W-0067389-G | S7: Chubb European Group SE, Sucursal en España | T7: NO
A8: 5 | B8: 3T | C8: 202605 | D8: 46294 | E8: 46294 | F8: Asesoramiento contable, fiscal y mercantil | G8: 13026 | H8: 2731.05 | I8: 15761.46 | J8: 12900 | K8: 12 | L8: 3 | M8: Servicios | N8: Ordinaria | O8: Ley 9/2017 | P8: Contrato Menor | Q8: SI | R8: B73504540 | S8: Cauce Consultores de Negocio, S.L. | T8: NO
J10: =SUM(J4:J9) -> 38488.08
D11: NOTA: En el periodo no se han producido modificaciones de los contratos informados
E13: % contratación según el procedimiento
N31: Pyme | O31: Menos de 250 empleados
O32: Facturación inferior a 50 millones de euros
D39: Nº Contratos según Procedimiento de Licitación

Sheet Cálculos
B4: Tipo de Contrato | C4: Nº Contratos | D4: % | E4: Importe | G4: Contratos adjudicados | H4: Número | I4: Contratos adjudicados | J4: % | K4: Importe
B5: Abierto criterio precio | C5: 0 | G5: No Pyme | H5: 1 | I5: No Pyme | J5: =+(K5/$E$19)*100 -> 2.4085379 | K5: =+'CONTRATOS TRLCSP'!$J$7 -> 927
B6: Restringido criterio precio | C6: 0 | G6: Pyme | H6: 4 | I6: Pyme | J6: =+(K6/$E$19)*100 -> 97.591462 | K6: =+'CONTRATOS TRLCSP'!$J$4+'CONTRATOS TRLCSP'!$J$5+'CONTRATOS TRLCSP'!$J$6+'CONTRATOS TRLCSP'!$J$8 -> 37561.08
B7: Procedimiento negociado con publicidad | C7: 0 | K7: =SUM(K5:K6) -> 38488.08
B8: Procedimiento negociado sin publicidad | C8: 0 | G8: Contratos adjudicados a PYMES | H8: Importe
B9: Diálogo competitivo | C9: 0 | G9: =B13 -> Abierto | H9: ='CONTRATOS TRLCSP'!J4 -> 21911.08
B10: Adjudicación directa | C10: 0 | G10: =B17 -> Contrato Menor | H10: =H11-H9 -> 15650
B11: Otros | C11: 0 | G11: TOTAL | H11: =E19-'CONTRATOS TRLCSP'!J7 -> 37561.08
B12: Contratación centralizada | C12: 0
B13: Abierto | C13: 1 | D13: =(E13/$E$19)*100 -> 56.929522 | E13: ='CONTRATOS TRLCSP'!$J$4 -> 21911.08 | G13: Contratos adjudicados a PYMES | H13: Importe
B14: Concurso de proyectos | C14: 0 | G14: Servicios | H14: ='CONTRATOS TRLCSP'!J10-'CONTRATOS TRLCSP'!J7 -> 37561.08
B15: Procedimiento de asociación para la innovación | C15: 0 | G15: Suministros | H15: 0
B16: Sistema dinámico de adquisición | C16: 0 | G16: TOTAL | H16: =+H14+H15 -> 37561.08
B17: Contrato Menor | C17: 4 | D17: =(E17/$E$19)*100 -> 43.070478 | E17: ='CONTRATOS TRLCSP'!$J$5+'CONTRATOS TRLCSP'!J6+'CONTRATOS TRLCSP'!J7+'CONTRATOS TRLCSP'!J8 -> 16577
B18: Total | C18: =SUM(C5:C17) -> 5 | D18: =SUM(D5:D17) -> 100 | E18: =SUM(E5:E17) -> 38488.08
B19: Importe adjudicación contratos | E19: ='CONTRATOS TRLCSP'!J10 -> 38488.08 | F19: =E18-E19 -> 0 | G19: Check
